BEGIN:VCALENDAR
VERSION:2.0
PRODID:-//Tukios.com/
BEGIN:VEVENT
UID:97169258-fe5b-44c4-b902-d48a3376bbff@www.hagerandcundifffunerals.com
DTSTAMP:20260421T213107Z
DTSTART:20260424T170000Z
DTEND:20260424T180000Z
SUMMARY:Funeral Service
DESCRIPTION:
URL:https://www.hagerandcundifffunerals.com/obituaries/charles-stinnett-jr
LOCATION:Nicholasville Church of God 1651 Wilmore Road  Nicholasville KY 
	40356
GEO:37.8865311;-84.6110338
END:VEVENT
END:VCALENDAR