BEGIN:VCALENDAR
VERSION:2.0
PRODID:-//Tukios.com/
BEGIN:VEVENT
UID:9b67a4ec-98ff-4ab5-9e95-35fba778a67e@www.hagerandcundifffunerals.com
DTSTAMP:20260421T213023Z
DTSTART:20260423T200000Z
DTEND:20260424T000000Z
SUMMARY:Visitation
DESCRIPTION:
URL:https://www.hagerandcundifffunerals.com/obituaries/charles-stinnett-jr
LOCATION:Nicholasville Church of God 1651 Wilmore Road  Nicholasville KY 
	40356
GEO:37.8865311;-84.6110338
END:VEVENT
END:VCALENDAR